BEGIN:VCALENDAR
VERSION:2.0
PRODID:-//Santa Cecilia - Roma - ECPv6.15.11//NONSGML v1.0//EN
CALSCALE:GREGORIAN
METHOD:PUBLISH
X-WR-CALNAME:Santa Cecilia - Roma
X-ORIGINAL-URL:https://conservatoriosantacecilia.it
X-WR-CALDESC:Eventi per Santa Cecilia - Roma
REFRESH-INTERVAL;VALUE=DURATION:PT1H
X-Robots-Tag:noindex
X-PUBLISHED-TTL:PT1H
BEGIN:VTIMEZONE
TZID:Europe/Rome
BEGIN:DAYLIGHT
TZOFFSETFROM:+0100
TZOFFSETTO:+0200
TZNAME:CEST
DTSTART:20250330T010000
END:DAYLIGHT
BEGIN:STANDARD
TZOFFSETFROM:+0200
TZOFFSETTO:+0100
TZNAME:CET
DTSTART:20251026T010000
END:STANDARD
BEGIN:DAYLIGHT
TZOFFSETFROM:+0100
TZOFFSETTO:+0200
TZNAME:CEST
DTSTART:20260329T010000
END:DAYLIGHT
BEGIN:STANDARD
TZOFFSETFROM:+0200
TZOFFSETTO:+0100
TZNAME:CET
DTSTART:20261025T010000
END:STANDARD
BEGIN:DAYLIGHT
TZOFFSETFROM:+0100
TZOFFSETTO:+0200
TZNAME:CEST
DTSTART:20270328T010000
END:DAYLIGHT
BEGIN:STANDARD
TZOFFSETFROM:+0200
TZOFFSETTO:+0100
TZNAME:CET
DTSTART:20271031T010000
END:STANDARD
END:VTIMEZONE
BEGIN:VEVENT
DTSTART;TZID=Europe/Rome:20260502T110000
DTEND;TZID=Europe/Rome:20260502T140000
DTSTAMP:20260420T225535
CREATED:20260420T205112Z
LAST-MODIFIED:20260420T205216Z
UID:123549-1777719600-1777730400@conservatoriosantacecilia.it
SUMMARY:Seminario dal respiro alla performance - Silvia Biferale
DESCRIPTION:Clicca qui per scaricare la locandina
URL:https://conservatoriosantacecilia.it/evento/seminario-dal-respiro-alla-performance-silvia-biferale/
LOCATION:Aula 15 – III piano
ATTACH;FMTTYPE=image/jpeg:https://conservatoriosantacecilia.it/wp-content/uploads/2026/04/Immagine-seminario-2-05-2026-e1776718325384.jpg
END:VEVENT
BEGIN:VEVENT
DTSTART;TZID=Europe/Rome:20260505T083000
DTEND;TZID=Europe/Rome:20260506T133000
DTSTAMP:20260420T225535
CREATED:20260414T214458Z
LAST-MODIFIED:20260414T220846Z
UID:123425-1777969800-1778074200@conservatoriosantacecilia.it
SUMMARY:Masterclass Musica per film Benvenuti al Sud - Umberto Scipione
DESCRIPTION:Clicca qui per scaricare la locandina
URL:https://conservatoriosantacecilia.it/evento/masterclass-musica-per-film-benvenuti-al-sud-umberto-scipione/
LOCATION:Sede via dei Greci
ATTACH;FMTTYPE=image/jpeg:https://conservatoriosantacecilia.it/wp-content/uploads/2016/04/master_class.jpg
END:VEVENT
BEGIN:VEVENT
DTSTART;TZID=Europe/Rome:20260507T100000
DTEND;TZID=Europe/Rome:20260507T120000
DTSTAMP:20260420T225535
CREATED:20260420T200135Z
LAST-MODIFIED:20260420T200223Z
UID:123533-1778148000-1778155200@conservatoriosantacecilia.it
SUMMARY:Masterclass Raffaele Napoli
DESCRIPTION:Clicca qui per scaricare la locandina
URL:https://conservatoriosantacecilia.it/evento/masterclass-raffaele-napoli/
LOCATION:Sala Medaglioni del Conservatorio Santa Cecilia\, Via dei Greci 18\, Roma\, Italia
ATTACH;FMTTYPE=image/jpeg:https://conservatoriosantacecilia.it/wp-content/uploads/2016/04/master_class.jpg
END:VEVENT
BEGIN:VEVENT
DTSTART;TZID=Europe/Rome:20260509T140000
DTEND;TZID=Europe/Rome:20260509T200000
DTSTAMP:20260420T225535
CREATED:20260411T203953Z
LAST-MODIFIED:20260420T200408Z
UID:123334-1778335200-1778356800@conservatoriosantacecilia.it
SUMMARY:Masterclass per Maestri Collaboratori (Carlo Donadio) - Il fido maestro collaboratore: Arte e operatività
DESCRIPTION:Clicca qui per scaricare la locandina
URL:https://conservatoriosantacecilia.it/evento/masterclass-per-maestri-collaboratori-carlo-donadio-il-fido-maestro-collaboratore-arte-e-operativita/
LOCATION:Sala Medaglioni del Conservatorio Santa Cecilia\, Via dei Greci 18\, Roma\, Italia
ATTACH;FMTTYPE=image/jpeg:https://conservatoriosantacecilia.it/wp-content/uploads/2016/04/master_class.jpg
END:VEVENT
BEGIN:VEVENT
DTSTART;TZID=Europe/Rome:20260513T190000
DTEND;TZID=Europe/Rome:20260513T200000
DTSTAMP:20260420T225535
CREATED:20260420T201103Z
LAST-MODIFIED:20260420T202143Z
UID:123540-1778698800-1778702400@conservatoriosantacecilia.it
SUMMARY:CONCERTO MAGISTER BACH: ALDILÀ DEI DOGMI
DESCRIPTION:Clicca qui per scaricare la locandina
URL:https://conservatoriosantacecilia.it/evento/concerto-magister-bach-aldila-dei-dogmi/
LOCATION:Sala Medaglioni del Conservatorio Santa Cecilia\, Via dei Greci 18\, Roma\, Italia
ATTACH;FMTTYPE=image/jpeg:https://conservatoriosantacecilia.it/wp-content/uploads/2026/04/Immagine-concerto-13-05-2026-e1776716494125.jpg
END:VEVENT
BEGIN:VEVENT
DTSTART;TZID=Europe/Rome:20260514T190000
DTEND;TZID=Europe/Rome:20260514T200000
DTSTAMP:20260420T225535
CREATED:20260420T200543Z
LAST-MODIFIED:20260420T203341Z
UID:123535-1778785200-1778788800@conservatoriosantacecilia.it
SUMMARY:Concerto Il fido maestro collaboratore: Arte e operatività (Carlo Donadio)
DESCRIPTION:Clicca qui per scaricare la locandina
URL:https://conservatoriosantacecilia.it/evento/concerto-il-fido-maestro-collaboratore-arte-e-operativita/
LOCATION:Sala Accademica Conservatorio Santa Cecilia\, Italia
ATTACH;FMTTYPE=image/jpeg:https://conservatoriosantacecilia.it/wp-content/uploads/2026/04/Immagione-concerto-14-05-2026-e1776717169875.jpg
END:VEVENT
END:VCALENDAR