BEGIN:VCALENDAR
VERSION:2.0
PRODID:-//Santa Cecilia - Roma - ECPv6.15.11//NONSGML v1.0//EN
CALSCALE:GREGORIAN
METHOD:PUBLISH
X-WR-CALNAME:Santa Cecilia - Roma
X-ORIGINAL-URL:https://conservatoriosantacecilia.it
X-WR-CALDESC:Eventi per Santa Cecilia - Roma
REFRESH-INTERVAL;VALUE=DURATION:PT1H
X-Robots-Tag:noindex
X-PUBLISHED-TTL:PT1H
BEGIN:VTIMEZONE
TZID:Europe/Rome
BEGIN:DAYLIGHT
TZOFFSETFROM:+0100
TZOFFSETTO:+0200
TZNAME:CEST
DTSTART:20250330T010000
END:DAYLIGHT
BEGIN:STANDARD
TZOFFSETFROM:+0200
TZOFFSETTO:+0100
TZNAME:CET
DTSTART:20251026T010000
END:STANDARD
BEGIN:DAYLIGHT
TZOFFSETFROM:+0100
TZOFFSETTO:+0200
TZNAME:CEST
DTSTART:20260329T010000
END:DAYLIGHT
BEGIN:STANDARD
TZOFFSETFROM:+0200
TZOFFSETTO:+0100
TZNAME:CET
DTSTART:20261025T010000
END:STANDARD
BEGIN:DAYLIGHT
TZOFFSETFROM:+0100
TZOFFSETTO:+0200
TZNAME:CEST
DTSTART:20270328T010000
END:DAYLIGHT
BEGIN:STANDARD
TZOFFSETFROM:+0200
TZOFFSETTO:+0100
TZNAME:CET
DTSTART:20271031T010000
END:STANDARD
END:VTIMEZONE
BEGIN:VEVENT
DTSTART;TZID=Europe/Rome:20260428T180000
DTEND;TZID=Europe/Rome:20260428T190000
DTSTAMP:20260421T002131
CREATED:20260304T103935Z
LAST-MODIFIED:20260414T164516Z
UID:122471-1777399200-1777402800@conservatoriosantacecilia.it
SUMMARY:Alziamo il Volume - Incontri con l'Autore
DESCRIPTION:Clicca qui per scaricare la locandina
URL:https://conservatoriosantacecilia.it/evento/alziamo-il-volume-incontri-con-lautore-11/
LOCATION:Sala Medaglioni del Conservatorio Santa Cecilia\, Via dei Greci 18\, Roma\, Italia
ATTACH;FMTTYPE=image/png:https://conservatoriosantacecilia.it/wp-content/uploads/2024/04/Immagine-locandina-Alziamo-il-volume-2024.png
END:VEVENT
BEGIN:VEVENT
DTSTART;TZID=Europe/Rome:20260429T150000
DTEND;TZID=Europe/Rome:20260429T190000
DTSTAMP:20260421T002131
CREATED:20260331T045146Z
LAST-MODIFIED:20260331T052518Z
UID:123036-1777474800-1777489200@conservatoriosantacecilia.it
SUMMARY:Masterclass - MAGISTER BACH: ALDILÀ DEI DOGMI
DESCRIPTION:Clicca qui per scaricare la locandina
URL:https://conservatoriosantacecilia.it/evento/masterclass-magister-bach-aldila-dei-dogmi/
LOCATION:Sala Medaglioni del Conservatorio Santa Cecilia\, Via dei Greci 18\, Roma\, Italia
ATTACH;FMTTYPE=image/jpeg:https://conservatoriosantacecilia.it/wp-content/uploads/2016/04/master_class.jpg
END:VEVENT
BEGIN:VEVENT
DTSTART;TZID=Europe/Rome:20260430T180000
DTEND;TZID=Europe/Rome:20260430T193000
DTSTAMP:20260421T002131
CREATED:20260330T150354Z
LAST-MODIFIED:20260330T150451Z
UID:123031-1777572000-1777577400@conservatoriosantacecilia.it
SUMMARY:Rassegna di Musica da Camera - Primavera in Musica
DESCRIPTION:Clicca qui per scaricare la locandina
URL:https://conservatoriosantacecilia.it/evento/rassegna-di-musica-da-camera-primavera-in-musica/
LOCATION:Sala Accademica Conservatorio Santa Cecilia\, Italia
ATTACH;FMTTYPE=image/jpeg:https://conservatoriosantacecilia.it/wp-content/uploads/2026/03/IMG_8098-e1774883129966.jpeg
END:VEVENT
BEGIN:VEVENT
DTSTART;TZID=Europe/Rome:20260502T110000
DTEND;TZID=Europe/Rome:20260502T140000
DTSTAMP:20260421T002131
CREATED:20260420T205112Z
LAST-MODIFIED:20260420T205216Z
UID:123549-1777719600-1777730400@conservatoriosantacecilia.it
SUMMARY:Seminario dal respiro alla performance - Silvia Biferale
DESCRIPTION:Clicca qui per scaricare la locandina
URL:https://conservatoriosantacecilia.it/evento/seminario-dal-respiro-alla-performance-silvia-biferale/
LOCATION:Aula 15 – III piano
ATTACH;FMTTYPE=image/jpeg:https://conservatoriosantacecilia.it/wp-content/uploads/2026/04/Immagine-seminario-2-05-2026-e1776718325384.jpg
END:VEVENT
BEGIN:VEVENT
DTSTART;TZID=Europe/Rome:20260505T083000
DTEND;TZID=Europe/Rome:20260506T133000
DTSTAMP:20260421T002131
CREATED:20260414T214458Z
LAST-MODIFIED:20260414T220846Z
UID:123425-1777969800-1778074200@conservatoriosantacecilia.it
SUMMARY:Masterclass Musica per film Benvenuti al Sud - Umberto Scipione
DESCRIPTION:Clicca qui per scaricare la locandina
URL:https://conservatoriosantacecilia.it/evento/masterclass-musica-per-film-benvenuti-al-sud-umberto-scipione/
LOCATION:Sede via dei Greci
ATTACH;FMTTYPE=image/jpeg:https://conservatoriosantacecilia.it/wp-content/uploads/2016/04/master_class.jpg
END:VEVENT
BEGIN:VEVENT
DTSTART;TZID=Europe/Rome:20260507T100000
DTEND;TZID=Europe/Rome:20260507T120000
DTSTAMP:20260421T002131
CREATED:20260420T200135Z
LAST-MODIFIED:20260420T200223Z
UID:123533-1778148000-1778155200@conservatoriosantacecilia.it
SUMMARY:Masterclass Raffaele Napoli
DESCRIPTION:Clicca qui per scaricare la locandina
URL:https://conservatoriosantacecilia.it/evento/masterclass-raffaele-napoli/
LOCATION:Sala Medaglioni del Conservatorio Santa Cecilia\, Via dei Greci 18\, Roma\, Italia
ATTACH;FMTTYPE=image/jpeg:https://conservatoriosantacecilia.it/wp-content/uploads/2016/04/master_class.jpg
END:VEVENT
BEGIN:VEVENT
DTSTART;TZID=Europe/Rome:20260508T203000
DTEND;TZID=Europe/Rome:20260508T213000
DTSTAMP:20260421T002131
CREATED:20260420T210311Z
LAST-MODIFIED:20260420T212754Z
UID:123553-1778272200-1778275800@conservatoriosantacecilia.it
SUMMARY:Guit Fest 2026: concerto Isaac Bustos
DESCRIPTION:Clicca qui per scaricare la locandina
URL:https://conservatoriosantacecilia.it/evento/guitfest-2026-concerto-isaac-bustos-usa/
LOCATION:Sala Accademica Conservatorio Santa Cecilia\, Italia
ATTACH;FMTTYPE=image/jpeg:https://conservatoriosantacecilia.it/wp-content/uploads/2022/11/GuitFest-03.jpg
END:VEVENT
BEGIN:VEVENT
DTSTART;TZID=Europe/Rome:20260509T140000
DTEND;TZID=Europe/Rome:20260509T200000
DTSTAMP:20260421T002131
CREATED:20260411T203953Z
LAST-MODIFIED:20260420T200408Z
UID:123334-1778335200-1778356800@conservatoriosantacecilia.it
SUMMARY:Masterclass per Maestri Collaboratori (Carlo Donadio) - Il fido maestro collaboratore: Arte e operatività
DESCRIPTION:Clicca qui per scaricare la locandina
URL:https://conservatoriosantacecilia.it/evento/masterclass-per-maestri-collaboratori-carlo-donadio-il-fido-maestro-collaboratore-arte-e-operativita/
LOCATION:Sala Medaglioni del Conservatorio Santa Cecilia\, Via dei Greci 18\, Roma\, Italia
ATTACH;FMTTYPE=image/jpeg:https://conservatoriosantacecilia.it/wp-content/uploads/2016/04/master_class.jpg
END:VEVENT
BEGIN:VEVENT
DTSTART;TZID=Europe/Rome:20260512T173000
DTEND;TZID=Europe/Rome:20260512T190000
DTSTAMP:20260421T002131
CREATED:20260313T081609Z
LAST-MODIFIED:20260420T210719Z
UID:122685-1778607000-1778612400@conservatoriosantacecilia.it
SUMMARY:Comunicare la musica a cura di Carla Di Lena - II edizione
DESCRIPTION:Clicca qui per scaricare la locandina
URL:https://conservatoriosantacecilia.it/evento/comunicare-la-musica-a-cura-di-carla-di-lena-ii-edizione/
LOCATION:Sala Medaglioni del Conservatorio Santa Cecilia\, Via dei Greci 18\, Roma\, Italia
ATTACH;FMTTYPE=image/jpeg:https://conservatoriosantacecilia.it/wp-content/uploads/2026/03/IMG_7958-e1773389860771.jpeg
END:VEVENT
BEGIN:VEVENT
DTSTART;TZID=Europe/Rome:20260513T190000
DTEND;TZID=Europe/Rome:20260513T200000
DTSTAMP:20260421T002131
CREATED:20260420T201103Z
LAST-MODIFIED:20260420T202143Z
UID:123540-1778698800-1778702400@conservatoriosantacecilia.it
SUMMARY:CONCERTO MAGISTER BACH: ALDILÀ DEI DOGMI
DESCRIPTION:Clicca qui per scaricare la locandina
URL:https://conservatoriosantacecilia.it/evento/concerto-magister-bach-aldila-dei-dogmi/
LOCATION:Sala Medaglioni del Conservatorio Santa Cecilia\, Via dei Greci 18\, Roma\, Italia
ATTACH;FMTTYPE=image/jpeg:https://conservatoriosantacecilia.it/wp-content/uploads/2026/04/Immagine-concerto-13-05-2026-e1776716494125.jpg
END:VEVENT
BEGIN:VEVENT
DTSTART;TZID=Europe/Rome:20260514T190000
DTEND;TZID=Europe/Rome:20260514T200000
DTSTAMP:20260421T002131
CREATED:20260420T200543Z
LAST-MODIFIED:20260420T203341Z
UID:123535-1778785200-1778788800@conservatoriosantacecilia.it
SUMMARY:Concerto Il fido maestro collaboratore: Arte e operatività (Carlo Donadio)
DESCRIPTION:Clicca qui per scaricare la locandina
URL:https://conservatoriosantacecilia.it/evento/concerto-il-fido-maestro-collaboratore-arte-e-operativita/
LOCATION:Sala Accademica Conservatorio Santa Cecilia\, Italia
ATTACH;FMTTYPE=image/jpeg:https://conservatoriosantacecilia.it/wp-content/uploads/2026/04/Immagione-concerto-14-05-2026-e1776717169875.jpg
END:VEVENT
BEGIN:VEVENT
DTSTART;TZID=Europe/Rome:20260515T203000
DTEND;TZID=Europe/Rome:20260515T213000
DTSTAMP:20260421T002131
CREATED:20260420T212247Z
LAST-MODIFIED:20260420T212719Z
UID:123575-1778877000-1778880600@conservatoriosantacecilia.it
SUMMARY:Guit Fest 2026: concerto Stefan Koim
DESCRIPTION:Clicca qui per scaricare la locandina
URL:https://conservatoriosantacecilia.it/evento/concerto-guit-fest-stefan-koim/
ATTACH;FMTTYPE=image/jpeg:https://conservatoriosantacecilia.it/wp-content/uploads/2022/11/GuitFest-03.jpg
END:VEVENT
BEGIN:VEVENT
DTSTART;TZID=Europe/Rome:20260516T173000
DTEND;TZID=Europe/Rome:20260516T183000
DTSTAMP:20260421T002131
CREATED:20260211T090038Z
LAST-MODIFIED:20260420T210556Z
UID:121943-1778952600-1778956200@conservatoriosantacecilia.it
SUMMARY:13° rassegna di musica antica - concerti e visite guidate alla collezione di strumenti musicali
DESCRIPTION:Clicca qui per scaricare la locandina
URL:https://conservatoriosantacecilia.it/evento/13-rassegna-di-musica-antica-concerti-e-visite-guidate-alla-collezione-di-strumenti-musicali/
LOCATION:Museo Nazionale degli Strumenti Musicali\, P.zza S. Croce in Gerusalemme\, 9/A\, Roma\, 00185\, Italia
ATTACH;FMTTYPE=image/jpeg:https://conservatoriosantacecilia.it/wp-content/uploads/2026/02/Immagine-1-e1770800555739.jpg
END:VEVENT
BEGIN:VEVENT
DTSTART;TZID=Europe/Rome:20260529T203000
DTEND;TZID=Europe/Rome:20260529T213000
DTSTAMP:20260421T002131
CREATED:20260420T212420Z
LAST-MODIFIED:20260420T212646Z
UID:123578-1780086600-1780090200@conservatoriosantacecilia.it
SUMMARY:Guit Fest 2026: concerto Helmut Jasbar
DESCRIPTION:Clicca qui per scaricare la locandina
URL:https://conservatoriosantacecilia.it/evento/concerto-guit-fest-helmut-jasbar/
ATTACH;FMTTYPE=image/jpeg:https://conservatoriosantacecilia.it/wp-content/uploads/2022/11/GuitFest-03.jpg
END:VEVENT
END:VCALENDAR